BEGIN:VCALENDAR
VERSION:2.0
PRODID:-//wp-events-plugin.com//7.2.3.1//EN
TZID:America/New_York
X-WR-TIMEZONE:America/New_York
BEGIN:VEVENT
UID:36@nvcwda.org
DTSTART;TZID=America/New_York:20240420T180000
DTEND;TZID=America/New_York:20240420T213000
DTSTAMP:20240419T222552Z
URL:https://www.nvcwda.org/events/country-dance-in-alexandria-april-20-202
 4/
SUMMARY:Country Dance in Alexandria. Lessons: "Scootin' Bootin'" and "Schot
 tische"
DESCRIPTION:\nSaturday April 20\, 2024\, Country Line Dance and Couples Dan
 ce in Alexandria with St Patrick theme\nJoin us for a public social countr
 y line dance and couples dance\, open to all ages\, singles\, couples and 
 families. Please see our FAQ and newcomer tips if you are a newcomer or be
 ginner.\n\nIf you are beginners with no experience at all of line or coupl
 e dancing\, we'll make sure to pay special attention to you during the les
 sons and open dancing so you can have fun with us!\n\nPlease share on Face
 book.\nDJ\nDJMiniMe (Nadeem)\nLine dance lesson:\nMarie-Luce will teach S
 cootin' Bootin'. Stepsheet | Video\n\n\nChoreographer: Mark Paulino\nMusic
 : Country Dance - Aaron Goodvin\nCouples dance lesson:\nLinda &amp\; Rich
  will teach Schottische. Stepsheet | Video\n\n\nReviews of past lessons th
 roughout the event.\nAdmission:\n\n 	$10 for members of NVCWDA.\n 	$15 for
  nonmembers.\n 	Children under 18\, with paying adult $5.\n 	Cash and chec
 ks.\n 	Annual Membership (June 2024 - May 2025): $20 for singles and $35 f
 or couples.\n
ATTACH;FMTTYPE=image/jpeg:https://www.nvcwda.org/wp-content/uploads/2023/0
 1/linedancers-slider-2-1080x474-1.jpg
LOCATION:Lincolnia Senior Center\, 4710 North Chambliss St\, Alexandria\, V
 A\, 22312\, United States
X-APPLE-STRUCTURED-LOCATION;VALUE=URI;X-ADDRESS=4710 North Chambliss St\, A
 lexandria\, VA\, 22312\, United States;X-APPLE-RADIUS=100;X-TITLE=Lincolni
 a Senior Center:geo:0,0
END:VEVENT
BEGIN:VTIMEZONE
TZID:America/New_York
X-LIC-LOCATION:America/New_York
BEGIN:DAYLIGHT
DTSTART:20240310T030000
TZOFFSETFROM:-0500
TZOFFSETTO:-0400
TZNAME:EDT
END:DAYLIGHT
END:VTIMEZONE
END:VCALENDAR