BEGIN:VCALENDAR
VERSION:2.0
PRODID:-//wp-events-plugin.com//7.2.3.1//EN
TZID:America/New_York
X-WR-TIMEZONE:America/New_York
BEGIN:VEVENT
UID:18@nvcwda.org
DTSTART;TZID=America/New_York:20230819T180000
DTEND;TZID=America/New_York:20230819T213000
DTSTAMP:20230817T191006Z
URL:https://www.nvcwda.org/events/country-dance-in-alexandria-august-19-20
 23/
SUMMARY:Country Dance in Alexandria
DESCRIPTION:Saturday August 19\, Country Line Dance and Couples Dance.\nJoi
 n us for a public social country line dance and couples dance\, open to al
 l ages\, singles\, couples and families. Please see our FAQ and newcomer t
 ips if you are a newcomer or beginner.\n\nIf you are beginners with no exp
 erience at all of line or couple dancing\, we'll make sure to pay special 
 attention to you during the lessons and open dancing so you can have fun w
 ith us!\n\nPlease share on Facebook.\nDJ\nKevin Handy\nLine dance lesson\n
 Laurie Armstrong will teach "You and Me in the Country". Stepsheet | Video
 \nCouples dance lesson\nLinda and Rich will teach the "Charleston Bump". S
 tepsheet | Video\n\nReviews of past lessons throughout the event.\nAdmissi
 on:\n\n 	$10 for members of NVCWDA.\n 	$15 for nonmembers.\n 	Children und
 er 18\, with paying adult $5.\n 	Cash\, checks and credit cards accepted.\
 n 	Membership: 1 year: $20 for singles and $35 for couples.\n
ATTACH;FMTTYPE=image/jpeg:https://www.nvcwda.org/wp-content/uploads/2023/0
 1/linedancers-slider-2-1080x474-1.jpg
LOCATION:Lincolnia Senior Center\, 4710 North Chambliss St\, Alexandria\, V
 A\, 22312\, United States
X-APPLE-STRUCTURED-LOCATION;VALUE=URI;X-ADDRESS=4710 North Chambliss St\, A
 lexandria\, VA\, 22312\, United States;X-APPLE-RADIUS=100;X-TITLE=Lincolni
 a Senior Center:geo:0,0
END:VEVENT
BEGIN:VTIMEZONE
TZID:America/New_York
X-LIC-LOCATION:America/New_York
BEGIN:DAYLIGHT
DTSTART:20230312T030000
TZOFFSETFROM:-0500
TZOFFSETTO:-0400
TZNAME:EDT
END:DAYLIGHT
END:VTIMEZONE
END:VCALENDAR