BEGIN:VCALENDAR
VERSION:2.0
PRODID:-//wp-events-plugin.com//7.2.3.1//EN
TZID:America/New_York
X-WR-TIMEZONE:America/New_York
BEGIN:VEVENT
UID:17@nvcwda.org
DTSTART;TZID=America/New_York:20230805T180000
DTEND;TZID=America/New_York:20230805T213000
DTSTAMP:20230817T182836Z
URL:https://www.nvcwda.org/events/country-dance-in-alexandria-august-5-202
 3/
SUMMARY:Country Dance in Alexandria- Learn "Asking' Questions"
DESCRIPTION:Saturday August 5\, Country Line Dance and Couples Dance.\nJoin
  us for a public social country line dance and couples dance\, open to all
  ages\, singles\, couples and families. Please see our FAQ and newcomer ti
 ps if you are a newcomer or beginner.\n\nIf you are beginners with no expe
 rience at all of line or couple dancing\, we'll make sure to pay special a
 ttention to you during the lessons and open dancing so you can have fun wi
 th us!\n\nPlease share on Facebook.\nDJ\nEd Cottrell\nLine dance lesson\nS
 teve will teach "Asking' Questions". stepsheet | video\nCouples dance less
 on\nLinda and Rich will teach Schottische and variations.\n\nReviews of pa
 st lessons throughout the event.\nAdmission:\n\n 	$10 for members of NVCWD
 A.\n 	$15 for nonmembers.\n 	Children under 18\, with paying adult $5.\n 	
 Cash\, checks and credit cards accepted.\n 	Membership: 1 year: $20 for si
 ngles and $35 for couples.\n
ATTACH;FMTTYPE=image/jpeg:https://www.nvcwda.org/wp-content/uploads/2023/0
 1/linedancers-slider-2-1080x474-1.jpg
LOCATION:Lincolnia Senior Center\, 4710 North Chambliss St\, Alexandria\, V
 A\, 22312\, United States
X-APPLE-STRUCTURED-LOCATION;VALUE=URI;X-ADDRESS=4710 North Chambliss St\, A
 lexandria\, VA\, 22312\, United States;X-APPLE-RADIUS=100;X-TITLE=Lincolni
 a Senior Center:geo:0,0
END:VEVENT
BEGIN:VTIMEZONE
TZID:America/New_York
X-LIC-LOCATION:America/New_York
BEGIN:DAYLIGHT
DTSTART:20230312T030000
TZOFFSETFROM:-0500
TZOFFSETTO:-0400
TZNAME:EDT
END:DAYLIGHT
END:VTIMEZONE
END:VCALENDAR