BEGIN:VCALENDAR
VERSION:2.0
PRODID:-//wp-events-plugin.com//7.2.3.1//EN
TZID:America/New_York
X-WR-TIMEZONE:America/New_York
BEGIN:VEVENT
UID:27@nvcwda.org
DTSTART;TZID=America/New_York:20231202T180000
DTEND;TZID=America/New_York:20231202T213000
DTSTAMP:20231201T175346Z
URL:https://www.nvcwda.org/events/country-dance-in-alexandria-dec/
SUMMARY:Country Dance in Alexandria. Lessons: "Swamp Thang" and 2-Step
DESCRIPTION:We'll be collecting donations for Toys for Tots. Please bring "
 new\, unwrapped toys." Thanks!\nSaturday Dec 2nd\, Country Line Dance and 
 Couples Dance in Alexandria.\nJoin us for a public social country line dan
 ce and couples dance\, open to all ages\, singles\, couples and families. 
 Please see our FAQ and newcomer tips if you are a newcomer or beginner.\n\
 nIf you are beginners with no experience at all of line or couple dancing\
 , we'll make sure to pay special attention to you during the lessons and o
 pen dancing so you can have fun with us!\n\nPlease share on Facebook.\nDJ\
 nNadeem\nLine dance lesson\nKaren Johnson will teach Swamp Thang. stepshee
 t | video\nChoreographer: Max Perry\, 4 walls\, 40 counts\, beginner/inter
 mediate level\n\nCouples dance lesson\nLinda &amp\; Rich will teach 2-Step
 \n\nReviews of past lessons throughout the event.\nAdmission:\n\n 	$10 for
  members of NVCWDA.\n 	$15 for nonmembers.\n 	Children under 18\, with pay
 ing adult $5.\n 	Cash\, checks and credit cards accepted.\n 	Prorated Memb
 ership: 1 year: $10 for singles and $18 for couples.\n
ATTACH;FMTTYPE=image/jpeg:https://www.nvcwda.org/wp-content/uploads/2023/0
 1/line-and-couple-dancers-yoast-1200x675-1.jpg
LOCATION:Lincolnia Senior Center\, 4710 North Chambliss St\, Alexandria\, V
 A\, 22312\, United States
X-APPLE-STRUCTURED-LOCATION;VALUE=URI;X-ADDRESS=4710 North Chambliss St\, A
 lexandria\, VA\, 22312\, United States;X-APPLE-RADIUS=100;X-TITLE=Lincolni
 a Senior Center:geo:0,0
END:VEVENT
BEGIN:VTIMEZONE
TZID:America/New_York
X-LIC-LOCATION:America/New_York
BEGIN:STANDARD
DTSTART:20231105T010000
TZOFFSETFROM:-0400
TZOFFSETTO:-0500
TZNAME:EST
END:STANDARD
END:VTIMEZONE
END:VCALENDAR