BEGIN:VCALENDAR
VERSION:2.0
PRODID:-//wp-events-plugin.com//7.2.3.1//EN
TZID:America/New_York
X-WR-TIMEZONE:America/New_York
BEGIN:VEVENT
UID:76@nvcwda.org
DTSTART;TZID=America/New_York:20251206T180000
DTEND;TZID=America/New_York:20251206T213000
DTSTAMP:20251205T071014Z
URL:https://www.nvcwda.org/events/country-dance-in-alexandria-december-06-
 2025/
SUMMARY:Country Dance in Alexandria.  Lessons:  I Ain't Sayin' (LD) and El 
 Paso Stroll (CD)
DESCRIPTION:\nSaturday December 6\, 2025\, Country Line Dance and Couples D
 ance in Alexandria.  Lessons:  I Ain't Sayin' (LD) and El Paso Stroll (C
 D)\nNOTE: We will be accepting donations on behalf of Toys for Tots and EC
 HO (both IRS 501(c)(3) non-profit charities) at the November 15th and Dece
 mber 6th dances as follows:\n\nToys for Tots - Toys\, new &amp\; unwrapped
 \n\nECHO - Non-perishable &amp\; healthy grocery food items\, i.e.\, dry b
 eans/lentils &amp\; rice/pasta (no glass containers please!)\n\nCash &amp\
 ; credit/debit cards are acceptable. If making a check donation\, please m
 ake it payable to NVCWDA and enter the name of the charity in the memo sec
 tion.  We know your donations will be greatly appreciated!\n\nJoin us for
  a public social country line dance and couples dance\, open to all ages\,
  singles\, couples and families. Please see our FAQ and newcomer tips if y
 ou are a newcomer or beginner.\n\nIf you are beginners with no experience 
 at all of line or couple dancing\, we'll make sure to pay special attentio
 n to you during the lessons and open dancing so you can have fun with us!\
 n\nPlease share on Facebook.\nDJ\nKevin Handy\nLine dance lesson:\nBernard
  will teach "I Ain't Sayin'"| Stepsheet |\nCouples dance lesson:\nLinda w
 ith teach "El Paso Stroll" | Stepsheet | Video |\nAdmission:\n\n 	$10 for
  members of NVCWDA.\n 	$15 for nonmembers.\n 	Children under 18\, with pay
 ing adult $5.\n 	Cash and checks.\n 	Annual Membership (expires May 2026):
  $15 for singles and $25 for couples (prorated quarterly). Free admission 
 for 1st time members after joining.\n
ATTACH;FMTTYPE=image/jpeg:https://www.nvcwda.org/wp-content/uploads/2023/1
 1/20191210120121-9d12-Toys-For-Tots.jpg
LOCATION:Lincolnia Senior Center\, 4710 North Chambliss St\, Alexandria\, V
 A\, 22312\, United States
X-APPLE-STRUCTURED-LOCATION;VALUE=URI;X-ADDRESS=4710 North Chambliss St\, A
 lexandria\, VA\, 22312\, United States;X-APPLE-RADIUS=100;X-TITLE=Lincolni
 a Senior Center:geo:0,0
END:VEVENT
BEGIN:VTIMEZONE
TZID:America/New_York
X-LIC-LOCATION:America/New_York
BEGIN:STANDARD
DTSTART:20251102T010000
TZOFFSETFROM:-0400
TZOFFSETTO:-0500
TZNAME:EST
END:STANDARD
END:VTIMEZONE
END:VCALENDAR