BEGIN:VCALENDAR
VERSION:2.0
PRODID:-//wp-events-plugin.com//7.2.3.1//EN
TZID:America/New_York
X-WR-TIMEZONE:America/New_York
BEGIN:VEVENT
UID:28@nvcwda.org
DTSTART;TZID=America/New_York:20231216T180000
DTEND;TZID=America/New_York:20231216T213000
DTSTAMP:20231214T011358Z
URL:https://www.nvcwda.org/events/country-dance-in-alexandria-december-16-
 2023/
SUMMARY:Country Dance in Alexandria. Lessons: Zatchu\, Stretchy Pants & Cow
 boy Cha Cha
DESCRIPTION:Saturday Dec 16th\, Country Line Dance and Couples Dance in Ale
 xandria.\nJoin us for a public social country line dance and couples dance
 \, open to all ages\, singles\, couples and families. Please see our FAQ a
 nd newcomer tips if you are a newcomer or beginner.\n\nIf you are beginner
 s with no experience at all of line or couple dancing\, we'll make sure to
  pay special attention to you during the lessons and open dancing so you c
 an have fun with us!\n\nPlease feel free to bring a plate of holiday cooki
 es or some holiday candy to share!\n\nPlease share on Facebook.\nDJ\nKevin
  Handy\nLine dance lesson\nMarie-Luce will teach Stretchy Pants. stepsheet
  | video\n\nLinda will teach Zatchu. stepsheet | video\nCouples dance less
 on\nKaren &amp\; Marty will teach Cowboy Cha Cha. Stepsheet | Video\n\n\nR
 eviews of past lessons throughout the event.\nAdmission:\n\n 	$10 for memb
 ers of NVCWDA.\n 	$15 for nonmembers.\n 	Children under 18\, with paying a
 dult $5.\n 	Cash and checks.\n 	Prorated Membership (Dec 2023-May 2024): $
 10 for singles and $18 for couples.\n
ATTACH;FMTTYPE=image/jpeg:https://www.nvcwda.org/wp-content/uploads/2023/0
 1/lincolnia-1.jpg
LOCATION:Lincolnia Senior Center\, 4710 North Chambliss St\, Alexandria\, V
 A\, 22312\, United States
X-APPLE-STRUCTURED-LOCATION;VALUE=URI;X-ADDRESS=4710 North Chambliss St\, A
 lexandria\, VA\, 22312\, United States;X-APPLE-RADIUS=100;X-TITLE=Lincolni
 a Senior Center:geo:0,0
END:VEVENT
BEGIN:VTIMEZONE
TZID:America/New_York
X-LIC-LOCATION:America/New_York
BEGIN:STANDARD
DTSTART:20231105T010000
TZOFFSETFROM:-0400
TZOFFSETTO:-0500
TZNAME:EST
END:STANDARD
END:VTIMEZONE
END:VCALENDAR