BEGIN:VCALENDAR
VERSION:2.0
PRODID:-//wp-events-plugin.com//7.2.3.1//EN
TZID:America/New_York
X-WR-TIMEZONE:America/New_York
BEGIN:VEVENT
UID:26@nvcwda.org
DTSTART;TZID=America/New_York:20231118T180000
DTEND;TZID=America/New_York:20231118T213000
DTSTAMP:20231118T204232Z
URL:https://www.nvcwda.org/events/country-dance-in-alexandria-december-2-2
 023/
SUMMARY:Country Dance in Alexandria.
DESCRIPTION:Saturday Dec 2nd\, Country Line Dance and Couples Dance in Alex
 andria.\nJoin us for a public social country line dance and couples dance\
 , open to all ages\, singles\, couples and families. Please see our FAQ an
 d newcomer tips if you are a newcomer or beginner.\n\nIf you are beginners
  with no experience at all of line or couple dancing\, we'll make sure to 
 pay special attention to you during the lessons and open dancing so you ca
 n have fun with us!\n\nPlease share on Facebook.\nDJ\nNadeem\nLine dance l
 esson\nKaren will teach TBD\nCouples dance lesson\nLinda &amp\; Rich will 
 teach 2-Step\n\nReviews of past lessons throughout the event.\nAdmission:\
 n\n 	$10 for members of NVCWDA.\n 	$15 for nonmembers.\n 	Children under 1
 8\, with paying adult $5.\n 	Cash\, checks and credit cards accepted.\n 	P
 rorated Membership: 1 year: $10 for singles and $18 for couples.\n
ATTACH;FMTTYPE=image/jpeg:https://www.nvcwda.org/wp-content/uploads/2023/0
 1/young-women-1080x691-1.jpg
LOCATION:Lincolnia Senior Center\, 4710 North Chambliss St\, Alexandria\, V
 A\, 22312\, United States
X-APPLE-STRUCTURED-LOCATION;VALUE=URI;X-ADDRESS=4710 North Chambliss St\, A
 lexandria\, VA\, 22312\, United States;X-APPLE-RADIUS=100;X-TITLE=Lincolni
 a Senior Center:geo:0,0
END:VEVENT
BEGIN:VTIMEZONE
TZID:America/New_York
X-LIC-LOCATION:America/New_York
BEGIN:STANDARD
DTSTART:20231105T010000
TZOFFSETFROM:-0400
TZOFFSETTO:-0500
TZNAME:EST
END:STANDARD
END:VTIMEZONE
END:VCALENDAR