BEGIN:VCALENDAR
VERSION:2.0
PRODID:-//wp-events-plugin.com//7.2.3.1//EN
TZID:America/New_York
X-WR-TIMEZONE:America/New_York
BEGIN:VEVENT
UID:79@nvcwda.org
DTSTART;TZID=America/New_York:20260103T180000
DTEND;TZID=America/New_York:20260103T213000
DTSTAMP:20251231T215213Z
URL:https://www.nvcwda.org/events/country-dance-in-alexandria-january-03-2
 026/
SUMMARY:Country Dance in Alexandria. Lessons:  Love Potion 666 (LD)\; Two-S
 tep Moves (CD)
DESCRIPTION:\nSaturday January 3rd\, 2026\, Country Line Dance and Couples 
 Dance in Alexandria.  Lessons:  Love Potion 666 (LD)\; Two-Step Moves (C
 D)\nJoin us for a public social country line dance (LD) and couples dance 
 (CD)\, open to all ages\, singles\, couples and families. Please see our F
 AQ and newcomer tips if you are a newcomer or beginner.\n\nIf you are begi
 nners with no experience at all of line or couple dancing\, we'll make sur
 e to pay special attention to you during the lessons and open dancing so y
 ou can have fun with us!\n\nPlease share on Facebook.\nDJ\nDJ MiniMe a/k/a
  Nadeem\nLine dance lesson:\nMarie-Luce will teach "Love Potion 666" | Ste
 psheet |\nCouples dance lesson:\nLinda will teach Two-Step moves\nAdmissio
 n:\n\n 	$10 for members of NVCWDA.\n 	$15 for non-members.\n 	Children und
 er 18\, with paying adult $5.\n 	Cash and checks.\n 	Annual Membership (ex
 pires May 2026): $10 for singles and $25 for couples (prorated quarterly).
  Free admission for 1st time members after joining.\n
ATTACH;FMTTYPE=image/jpeg:https://www.nvcwda.org/wp-content/uploads/2023/0
 1/line-and-couple-dancers-yoast-1200x675-1.jpg
LOCATION:Lincolnia Senior Center\, 4710 North Chambliss St\, Alexandria\, V
 A\, 22312\, United States
X-APPLE-STRUCTURED-LOCATION;VALUE=URI;X-ADDRESS=4710 North Chambliss St\, A
 lexandria\, VA\, 22312\, United States;X-APPLE-RADIUS=100;X-TITLE=Lincolni
 a Senior Center:geo:0,0
END:VEVENT
BEGIN:VTIMEZONE
TZID:America/New_York
X-LIC-LOCATION:America/New_York
BEGIN:STANDARD
DTSTART:20251102T010000
TZOFFSETFROM:-0400
TZOFFSETTO:-0500
TZNAME:EST
END:STANDARD
END:VTIMEZONE
END:VCALENDAR