BEGIN:VCALENDAR
VERSION:2.0
PRODID:-//wp-events-plugin.com//7.2.3.1//EN
TZID:America/New_York
X-WR-TIMEZONE:America/New_York
BEGIN:VEVENT
UID:13@nvcwda.org
DTSTART;TZID=America/New_York:20230701T180000
DTEND;TZID=America/New_York:20230701T213000
DTSTAMP:20230629T210544Z
URL:https://www.nvcwda.org/events/country-dance-in-alexandria-july-1-2023/
SUMMARY:Country Dance in Alexandria- Learn "Let's Country Roads" and "El Pa
 so"
DESCRIPTION:Saturday July 1st\, Country Line Dance and Couples Dance.\nJoin
  us for a public social country line dance and couples dance\, open to all
  ages\, singles\, couples and families. Please see our FAQ and newcomer ti
 ps if you are a newcomer or beginner.\n\nIf you are beginners with no expe
 rience at all of line or couple dancing\, we'll make sure to pay special a
 ttention to you during the lessons and open dancing so you can have fun wi
 th us!\n\nPlease share on Facebook.\nDJ\nBernie &amp\; Lydia Vitale\nLine 
 dance lesson\nBernie will teach "Let's Country Roads". stepsheet | video\n
 Couples dance lesson\nGary will teach "El Paso" and some variations.  ste
 psheet | video\n\nReviews of past lessons throughout the event.\nAdmission
 :\n\n 	$10 for members of NVCWDA.\n 	$15 for nonmembers.\n 	Children under
  18\, with paying adult $5.\n 	Cash\, checks and credit cards accepted.\n 
 	Membership: 1 year: $20 for singles and $35 for couples.\n
ATTACH;FMTTYPE=image/jpeg:https://www.nvcwda.org/wp-content/uploads/2023/0
 1/young-women-1080x691-1.jpg
LOCATION:Lincolnia Senior Center\, 4710 North Chambliss St\, Alexandria\, V
 A\, 22312\, United States
X-APPLE-STRUCTURED-LOCATION;VALUE=URI;X-ADDRESS=4710 North Chambliss St\, A
 lexandria\, VA\, 22312\, United States;X-APPLE-RADIUS=100;X-TITLE=Lincolni
 a Senior Center:geo:0,0
END:VEVENT
BEGIN:VTIMEZONE
TZID:America/New_York
X-LIC-LOCATION:America/New_York
BEGIN:DAYLIGHT
DTSTART:20230312T030000
TZOFFSETFROM:-0500
TZOFFSETTO:-0400
TZNAME:EDT
END:DAYLIGHT
END:VTIMEZONE
END:VCALENDAR