BEGIN:VCALENDAR
VERSION:2.0
PRODID:-//wp-events-plugin.com//7.2.3.1//EN
TZID:America/New_York
X-WR-TIMEZONE:America/New_York
BEGIN:VEVENT
UID:42@nvcwda.org
DTSTART;TZID=America/New_York:20240720T180000
DTEND;TZID=America/New_York:20240720T213000
DTSTAMP:20240717T173207Z
URL:https://www.nvcwda.org/events/country-dance-in-alexandria-july-20-2024
 /
SUMMARY:Country Dance in Alexandria. Lessons: Any Ole Honky Tonk and the Wa
 ltz
DESCRIPTION:\nSaturday July 20\, 2024\, Country Line Dance and Couples Danc
 e in Alexandria\nJoin us for a public social country line dance and couple
 s dance\, open to all ages\, singles\, couples and families. Please see ou
 r FAQ and newcomer tips if you are a newcomer or beginner.\n\nIf you are b
 eginners with no experience at all of line or couple dancing\, we'll make 
 sure to pay special attention to you during the lessons and open dancing s
 o you can have fun with us!\n\nPlease share on Facebook.\nDJ\nBernie &amp\
 ; Lydia\nLine dance lesson:\nBernie will teach Any Ole Honky Tonk. Stepshe
 et | Video\n\nChoreography: Shellie Stone\nCouples dance lesson:\nLinda an
 d Rich will teach the Waltz\n\nReviews of past lessons throughout the even
 t.\nAdmission:\n\n 	$10 for members of NVCWDA.\n 	$15 for nonmembers.\n 	C
 hildren under 18\, with paying adult $5.\n 	Cash and checks.\n 	Annual Mem
 bership (June 2024 - May 2025): $20 for singles and $35 for couples. Free 
 admission for 1st time members.\n
ATTACH;FMTTYPE=image/jpeg:https://www.nvcwda.org/wp-content/uploads/2023/0
 1/line-and-couple-dancers-yoast-1200x675-1.jpg
LOCATION:Lincolnia Senior Center\, 4710 North Chambliss St\, Alexandria\, V
 A\, 22312\, United States
X-APPLE-STRUCTURED-LOCATION;VALUE=URI;X-ADDRESS=4710 North Chambliss St\, A
 lexandria\, VA\, 22312\, United States;X-APPLE-RADIUS=100;X-TITLE=Lincolni
 a Senior Center:geo:0,0
END:VEVENT
BEGIN:VTIMEZONE
TZID:America/New_York
X-LIC-LOCATION:America/New_York
BEGIN:DAYLIGHT
DTSTART:20240310T030000
TZOFFSETFROM:-0500
TZOFFSETTO:-0400
TZNAME:EDT
END:DAYLIGHT
END:VTIMEZONE
END:VCALENDAR