BEGIN:VCALENDAR
VERSION:2.0
PRODID:-//wp-events-plugin.com//7.2.3.1//EN
TZID:America/New_York
X-WR-TIMEZONE:America/New_York
BEGIN:VEVENT
UID:40@nvcwda.org
DTSTART;TZID=America/New_York:20240615T180000
DTEND;TZID=America/New_York:20240615T213000
DTSTAMP:20240614T175745Z
URL:https://www.nvcwda.org/events/country-dance-in-alexandria-june-15-2024
 /
SUMMARY:Country Dance in Alexandria. Lessons: LOVE 2022 and El-Paso
DESCRIPTION:\nSaturday June 15\, 2024\, Country Line Dance and Couples Danc
 e in Alexandria\nDear members\, if you haven't renewed yet\, please renew 
 online before the dance\; it will make the door work a lot easier. Thanks!
 !!\n\nJoin us for a public social country line dance and couples dance\, o
 pen to all ages\, singles\, couples and families. Please see our FAQ and n
 ewcomer tips if you are a newcomer or beginner.\n\nIf you are beginners wi
 th no experience at all of line or couple dancing\, we'll make sure to pay
  special attention to you during the lessons and open dancing so you can h
 ave fun with us!\n\nPlease share on Facebook.\nDJ\nBernie &amp\; Lydia\nLi
 ne dance lesson:\nBernie &amp\; Lydia will teach LOVE 2022. Stepsheet | Vi
 deo\n\nChoreography: Yulia P M\, Daisy Rosana Dewi &amp\; Linda Widjaya - 
 February 2022\nSong: L O V E (Glee Cast Version) - Glee Cast : (Nat King C
 ole)\n\nIf time allows\, Bernie will also teach Take Me Home. Stepsheet | 
 Video\n\nChoreography: Karen Trip\nSong: Take Me Home - Tol &amp\; Tol : (
 Album: V)\nCouples dance lesson:\nLinda and Rich will teach El Paso and va
 riations. Stepsheet and video.\n\nReviews of past lessons throughout the e
 vent.\nAdmission:\n\n 	$10 for members of NVCWDA.\n 	$15 for nonmembers.\n
  	Children under 18\, with paying adult $5.\n 	Cash and checks.\n 	Annual 
 Membership (June 2024 - May 2025): $20 for singles and $35 for couples. Fr
 ee admission for 1st time members.\n
ATTACH;FMTTYPE=image/jpeg:https://www.nvcwda.org/wp-content/uploads/2023/0
 1/linedancers-slider-2-1080x474-1.jpg
LOCATION:Lincolnia Senior Center\, 4710 North Chambliss St\, Alexandria\, V
 A\, 22312\, United States
X-APPLE-STRUCTURED-LOCATION;VALUE=URI;X-ADDRESS=4710 North Chambliss St\, A
 lexandria\, VA\, 22312\, United States;X-APPLE-RADIUS=100;X-TITLE=Lincolni
 a Senior Center:geo:0,0
END:VEVENT
BEGIN:VTIMEZONE
TZID:America/New_York
X-LIC-LOCATION:America/New_York
BEGIN:DAYLIGHT
DTSTART:20240310T030000
TZOFFSETFROM:-0500
TZOFFSETTO:-0400
TZNAME:EDT
END:DAYLIGHT
END:VTIMEZONE
END:VCALENDAR