BEGIN:VCALENDAR
VERSION:2.0
PRODID:-//wp-events-plugin.com//7.2.3.1//EN
TZID:America/New_York
X-WR-TIMEZONE:America/New_York
BEGIN:VEVENT
UID:63@nvcwda.org
DTSTART;TZID=America/New_York:20250621T180000
DTEND;TZID=America/New_York:20250621T213000
DTSTAMP:20250613T135343Z
URL:https://www.nvcwda.org/events/country-dance-in-alexandria-june-21-2025
 /
SUMMARY:Country Dance in Alexandria.  Lessons:  Footloose and Wooden Nickel
DESCRIPTION:\nSaturday June 21\, 2025\, Country Line Dance and Couples Danc
 e in Alexandria.\nJoin us for a public social country line dance and coupl
 es dance\, open to all ages\, singles\, couples and families. Please see o
 ur FAQ and newcomer tips if you are a newcomer or beginner.\n\nIf you are 
 beginners with no experience at all of line or couple dancing\, we'll make
  sure to pay special attention to you during the lessons and open dancing 
 so you can have fun with us!\n\nPlease share on Facebook.\nDJ\nDJ MiniMe (
 Nadeem)\nLine dance lessons:\nSteve will teach "Footloose" | Stepsheet and
  Videos |.\nCouples dance lesson:\nLinda will teach "Wooden Nickel" | Step
 sheet | Video |.\n\nReviews of past lessons throughout the event.\nAdmissi
 on:\n\n 	$10 for members of NVCWDA.\n 	$15 for nonmembers.\n 	Children und
 er 18\, with paying adult $5.\n 	Cash and checks.\n 	Annual Membership (ex
 pires May 2026): $20 for singles and $35 for couples. Free admission for 1
 st time members.\n
ATTACH;FMTTYPE=image/jpeg:https://www.nvcwda.org/wp-content/uploads/2023/0
 1/couples-slider-2-1080x474-1.jpg
LOCATION:Lincolnia Senior Center\, 4710 North Chambliss St\, Alexandria\, V
 A\, 22312\, United States
X-APPLE-STRUCTURED-LOCATION;VALUE=URI;X-ADDRESS=4710 North Chambliss St\, A
 lexandria\, VA\, 22312\, United States;X-APPLE-RADIUS=100;X-TITLE=Lincolni
 a Senior Center:geo:0,0
END:VEVENT
BEGIN:VTIMEZONE
TZID:America/New_York
X-LIC-LOCATION:America/New_York
BEGIN:DAYLIGHT
DTSTART:20250309T030000
TZOFFSETFROM:-0500
TZOFFSETTO:-0400
TZNAME:EDT
END:DAYLIGHT
END:VTIMEZONE
END:VCALENDAR