BEGIN:VCALENDAR
VERSION:2.0
PRODID:-//wp-events-plugin.com//7.2.3.1//EN
TZID:America/New_York
X-WR-TIMEZONE:America/New_York
BEGIN:VEVENT
UID:56@nvcwda.org
DTSTART;TZID=America/New_York:20250301T180000
DTEND;TZID=America/New_York:20250301T213000
DTSTAMP:20250227T202305Z
URL:https://www.nvcwda.org/events/country-dance-in-alexandria-march-01-202
 5/
SUMMARY:Country Dance in Alexandria. Lessons: "Cowboy Charleston" and "Crui
 sin'"
DESCRIPTION:\nSaturday March 1st\, 2025\, Country Line Dance and Couples Da
 nce in Alexandria.\nJoin us for a public social country line dance and cou
 ples dance\, open to all ages\, singles\, couples and families. Please see
  our FAQ and newcomer tips if you are a newcomer or beginner.\n\nIf you ar
 e beginners with no experience at all of line or couple dancing\, we'll ma
 ke sure to pay special attention to you during the lessons and open dancin
 g so you can have fun with us!\n\nPlease share on Facebook.\nDJ\nKevin Han
 dy\nLine dance lessons:\nMarie-Luce will teach Cowboy Charleston.  Stepsh
 eet | Video\n\nCouples dance lesson:\nSteve &amp\; Beth will teach the cou
 ples version of Cruisin'. Stepsheet | Video\n\nThe Cruisin' partner dance 
 is the same as the line dance\, not danced in the traditional circle\, but
  in line. The stepsheet link above is the line dance stepsheet.\n\nReviews
  of past lessons throughout the event.\nAdmission:\n\n 	$10 for members of
  NVCWDA.\n 	$15 for nonmembers.\n 	Children under 18\, with paying adult $
 5.\n 	Cash and checks.\n 	Annual Membership (expires May 2025): $10 for si
 ngles and $18 for couples. Free admission for 1st time members.\n
ATTACH;FMTTYPE=image/jpeg:https://www.nvcwda.org/wp-content/uploads/2023/0
 1/young-women-1080x691-1.jpg
LOCATION:Lincolnia Senior Center\, 4710 North Chambliss St\, Alexandria\, V
 A\, 22312\, United States
X-APPLE-STRUCTURED-LOCATION;VALUE=URI;X-ADDRESS=4710 North Chambliss St\, A
 lexandria\, VA\, 22312\, United States;X-APPLE-RADIUS=100;X-TITLE=Lincolni
 a Senior Center:geo:0,0
END:VEVENT
BEGIN:VTIMEZONE
TZID:America/New_York
X-LIC-LOCATION:America/New_York
BEGIN:STANDARD
DTSTART:20241103T010000
TZOFFSETFROM:-0400
TZOFFSETTO:-0500
TZNAME:EST
END:STANDARD
END:VTIMEZONE
END:VCALENDAR