BEGIN:VCALENDAR
VERSION:2.0
PRODID:-//wp-events-plugin.com//7.2.3.1//EN
TZID:America/New_York
X-WR-TIMEZONE:America/New_York
BEGIN:VEVENT
UID:34@nvcwda.org
DTSTART;TZID=America/New_York:20240316T180000
DTEND;TZID=America/New_York:20240316T213000
DTSTAMP:20240314T165947Z
URL:https://www.nvcwda.org/events/country-dance-in-alexandria-march-16-202
 4/
SUMMARY:St. Patrick's Day Country Dance in Alexandria. Lessons: "Stealing t
 he Best" and 2-Step
DESCRIPTION:\nCome celebrate St. Patrick's Day with us Saturday March 16\, 
 2024. We'll have Country Line Dances and Couples Dances in Alexandria with
  St. Patrick's songs.\nJoin us for a public social country line dance and 
 couples dance\, open to all ages\, singles\, couples and families. Please 
 see our FAQ and newcomer tips if you are a newcomer or beginner.\n\nIf you
  are beginners with no experience at all of line or couple dancing\, we'll
  make sure to pay special attention to you during the lessons and open dan
 cing so you can have fun with us!\n\nPlease share on Facebook.\nDJ\nDLMini
 me (Nadeem)\nLine dance lesson\nLaurie will teach Stealing the Best (20th 
 Anniversary Edition). Stepsheet | Video\n\nChoreographer: Rosie Multari\nS
 ong: “Dance Above The Rainbow” by Ronan Hardiman\nCouples dance lesson
 \nLinda &amp\; Rich will teach 2-Step.\n\n\nReviews of past lessons throug
 hout the event.\nAdmission:\n\n 	$10 for members of NVCWDA.\n 	$15 for non
 members.\n 	Children under 18\, with paying adult $5.\n 	Cash and checks.\
 n 	Annual Membership (June 2024 - May 2025): $20 for singles and $35 for c
 ouples.\n
ATTACH;FMTTYPE=image/jpeg:https://www.nvcwda.org/wp-content/uploads/2023/0
 1/young-women-1080x691-1.jpg
LOCATION:Lincolnia Senior Center\, 4710 North Chambliss St\, Alexandria\, V
 A\, 22312\, United States
X-APPLE-STRUCTURED-LOCATION;VALUE=URI;X-ADDRESS=4710 North Chambliss St\, A
 lexandria\, VA\, 22312\, United States;X-APPLE-RADIUS=100;X-TITLE=Lincolni
 a Senior Center:geo:0,0
END:VEVENT
BEGIN:VTIMEZONE
TZID:America/New_York
X-LIC-LOCATION:America/New_York
BEGIN:DAYLIGHT
DTSTART:20240310T030000
TZOFFSETFROM:-0500
TZOFFSETTO:-0400
TZNAME:EDT
END:DAYLIGHT
END:VTIMEZONE
END:VCALENDAR