BEGIN:VCALENDAR
VERSION:2.0
PRODID:-//wp-events-plugin.com//7.2.3.1//EN
TZID:America/New_York
X-WR-TIMEZONE:America/New_York
BEGIN:VEVENT
UID:88@nvcwda.org
DTSTART;TZID=America/New_York:20260321T180000
DTEND;TZID=America/New_York:20260321T213000
DTSTAMP:20260320T170915Z
URL:https://www.nvcwda.org/events/country-dance-in-alexandria-march-21-202
 6/
SUMMARY:Country Dance in Alexandria.  ADMISSION FREE!!  Lessons:  Canadian 
 Stomp (LD)\; Two Step Moves (CD)
DESCRIPTION:\nSaturday March 21\, 2026\, Country Line Dance and Couples Dan
 ce in Alexandria. ADMISSION FREE!! Lessons: Canadian Stomp (LD)\; Two Step
  Moves (CD)\nWe would appreciate if you could donate to support the associ
 ation.\n\nJoin us for a public social country line dance (LD) and couples 
 dance (CD)\, open to all ages\, singles\, couples and families. Please see
  our FAQ and newcomer tips if you are a newcomer or beginner.\n\nIf you ar
 e beginners with no experience at all of line or couple dancing\, we'll ma
 ke sure to pay special attention to you during the lessons and open dancin
 g so you can have fun with us!\n\nPlease share on Facebook.\nDJ\nKat Fanel
 li\nLine dance lesson:\nSteve will teach "Canadian Stomp" | Stepsheet |\n
 Couples dance lesson:\nLinda will teach Two Step Moves\nAdmission:  FREE!
 !
ATTACH;FMTTYPE=image/jpeg:https://www.nvcwda.org/wp-content/uploads/2023/0
 1/line-and-couple-dancers-yoast-1200x675-1.jpg
LOCATION:Lincolnia Senior Center\, 4710 North Chambliss St\, Alexandria\, V
 A\, 22312\, United States
X-APPLE-STRUCTURED-LOCATION;VALUE=URI;X-ADDRESS=4710 North Chambliss St\, A
 lexandria\, VA\, 22312\, United States;X-APPLE-RADIUS=100;X-TITLE=Lincolni
 a Senior Center:geo:0,0
END:VEVENT
BEGIN:VTIMEZONE
TZID:America/New_York
X-LIC-LOCATION:America/New_York
BEGIN:DAYLIGHT
DTSTART:20260308T030000
TZOFFSETFROM:-0500
TZOFFSETTO:-0400
TZNAME:EDT
END:DAYLIGHT
END:VTIMEZONE
END:VCALENDAR