BEGIN:VCALENDAR
VERSION:2.0
PRODID:-//wp-events-plugin.com//7.2.3.1//EN
TZID:America/New_York
X-WR-TIMEZONE:America/New_York
BEGIN:VEVENT
UID:61@nvcwda.org
DTSTART;TZID=America/New_York:20250517T180000
DTEND;TZID=America/New_York:20250517T213000
DTSTAMP:20250517T121747Z
URL:https://www.nvcwda.org/events/country-dance-in-alexandria-may-17-2025/
SUMMARY:Country Dance in Alexandria. Lessons: Flying Eights and El Paso
DESCRIPTION:\nSaturday May 17\, 2025\, Country Line Dance and Couples Dance
  in Alexandria.\nJoin us for a public social country line dance and couple
 s dance\, open to all ages\, singles\, couples and families. Please see ou
 r FAQ and newcomer tips if you are a newcomer or beginner.\n\nIf you are b
 eginners with no experience at all of line or couple dancing\, we'll make 
 sure to pay special attention to you during the lessons and open dancing s
 o you can have fun with us!\n\nPlease share on Facebook.\nDJ\nKevin Handy\
 nLine dance lessons:\nKaren will teach "Flying Eights" | Stepsheet | Vide
 o 1 | Video 2 |.\nCouples dance lesson:\nLinda will teach the couples danc
 e  "El Paso"  | Stepsheet | Video | with possible variations.\n\nReview
 s of past lessons throughout the event.\nAdmission:\n\n 	$10 for members o
 f NVCWDA.\n 	$15 for nonmembers.\n 	Children under 18\, with paying adult 
 $5.\n 	Cash and checks.\n 	Annual Membership (expires May 2025): $10 for s
 ingles and $18 for couples. Free admission for 1st time members.\n
ATTACH;FMTTYPE=image/jpeg:https://www.nvcwda.org/wp-content/uploads/2023/0
 1/lincolnia-1.jpg
LOCATION:Lincolnia Senior Center\, 4710 North Chambliss St\, Alexandria\, V
 A\, 22312\, United States
X-APPLE-STRUCTURED-LOCATION;VALUE=URI;X-ADDRESS=4710 North Chambliss St\, A
 lexandria\, VA\, 22312\, United States;X-APPLE-RADIUS=100;X-TITLE=Lincolni
 a Senior Center:geo:0,0
END:VEVENT
BEGIN:VTIMEZONE
TZID:America/New_York
X-LIC-LOCATION:America/New_York
BEGIN:DAYLIGHT
DTSTART:20250309T030000
TZOFFSETFROM:-0500
TZOFFSETTO:-0400
TZNAME:EDT
END:DAYLIGHT
END:VTIMEZONE
END:VCALENDAR