BEGIN:VCALENDAR
VERSION:2.0
PRODID:-//wp-events-plugin.com//7.2.3.1//EN
TZID:America/New_York
X-WR-TIMEZONE:America/New_York
BEGIN:VEVENT
UID:39@nvcwda.org
DTSTART;TZID=America/New_York:20240518T180000
DTEND;TZID=America/New_York:20240518T213000
DTSTAMP:20240514T182559Z
URL:https://www.nvcwda.org/events/country-dance-in-alexandria-may-18-2024/
SUMMARY:Country Dance in Alexandria. Lessons: "Big Dreams & Faded Jeans" & 
 the Waltz
DESCRIPTION:\nSaturday May 18th\, 2024\, Country Line Dance and Couples Dan
 ce in Alexandria\nJoin us for a public social country line dance and coupl
 es dance\, open to all ages\, singles\, couples and families. Please see o
 ur FAQ and newcomer tips if you are a newcomer or beginner.\n\nIf you are 
 beginners with no experience at all of line or couple dancing\, we'll make
  sure to pay special attention to you during the lessons and open dancing 
 so you can have fun with us!\n\nPlease share on Facebook.\nDJ\nBernie &amp
 \; Lydia VItale\nLine dance lesson:\nBernie will teach Big Dreams &amp\; F
 aded Jeans. Stepsheet | Video\n\nChoreographer:Debbie Marschall\n\n\nMusic
 :Big Dreams and Faded Jeans - Dolly Parton\n\n\nCouples dance lesson:\nGar
 y will teach the Waltz\n\n\nReviews of past lessons throughout the event.\
 nAdmission:\n\n 	$10 for members of NVCWDA.\n 	$15 for nonmembers.\n 	Chil
 dren under 18\, with paying adult $5.\n 	Cash and checks.\n 	Annual Member
 ship (June 2024 - May 2025): $20 for singles and $35 for couples.\n
ATTACH;FMTTYPE=image/jpeg:https://www.nvcwda.org/wp-content/uploads/2023/0
 1/young-women-1080x691-1.jpg
LOCATION:Lincolnia Senior Center\, 4710 North Chambliss St\, Alexandria\, V
 A\, 22312\, United States
X-APPLE-STRUCTURED-LOCATION;VALUE=URI;X-ADDRESS=4710 North Chambliss St\, A
 lexandria\, VA\, 22312\, United States;X-APPLE-RADIUS=100;X-TITLE=Lincolni
 a Senior Center:geo:0,0
END:VEVENT
BEGIN:VTIMEZONE
TZID:America/New_York
X-LIC-LOCATION:America/New_York
BEGIN:DAYLIGHT
DTSTART:20240310T030000
TZOFFSETFROM:-0500
TZOFFSETTO:-0400
TZNAME:EDT
END:DAYLIGHT
END:VTIMEZONE
END:VCALENDAR