BEGIN:VCALENDAR
VERSION:2.0
PRODID:-//wp-events-plugin.com//7.2.3.1//EN
TZID:America/New_York
X-WR-TIMEZONE:America/New_York
BEGIN:VEVENT
UID:74@nvcwda.org
DTSTART;TZID=America/New_York:20251101T180000
DTEND;TZID=America/New_York:20251101T213000
DTSTAMP:20251101T132428Z
URL:https://www.nvcwda.org/events/country-dance-in-alexandria-november-01-
 2025/
SUMMARY:Country Dance in Alexandria.  Lessons:  Cry\, Cry\, Cry (LD) and Ea
 st Coast Swing
DESCRIPTION:\nSaturday November 1st\, 2025\, Country Line Dance and Couples
  Dance in Alexandria.  Lessons:  Cry\, Cry\, Cry Line Dance and East Coa
 st Swing\nJoin us for a public social country line dance and couples dance
 \, open to all ages\, singles\, couples and families. Please see our FAQ a
 nd newcomer tips if you are a newcomer or beginner.\n\nIf you are beginner
 s with no experience at all of line or couple dancing\, we'll make sure to
  pay special attention to you during the lessons and open dancing so you c
 an have fun with us!\n\nPlease share on Facebook.\nDJ\nDJ MiniMe a/k/a Nad
 eem\nLine dance lesson:\nKaren will teach "Cry\, Cry\, Cry."  | Stepsh
 eet | Video | Video |\nCouples dance lesson:\nLinda with teach East Coas
 t Swing moves.\nAdmission:\n\n 	$10 for members of NVCWDA.\n 	$15 for nonm
 embers.\n 	Children under 18\, with paying adult $5.\n 	Cash and checks.\n
  	Annual Membership (expires May 2026): $15 for singles and $25 for couple
 s (prorated quarterly). Free admission for 1st time members after joining.
 \n
ATTACH;FMTTYPE=image/jpeg:https://www.nvcwda.org/wp-content/uploads/2023/0
 1/lincolnia.jpg
LOCATION:Lincolnia Senior Center\, 4710 North Chambliss St\, Alexandria\, V
 A\, 22312\, United States
X-APPLE-STRUCTURED-LOCATION;VALUE=URI;X-ADDRESS=4710 North Chambliss St\, A
 lexandria\, VA\, 22312\, United States;X-APPLE-RADIUS=100;X-TITLE=Lincolni
 a Senior Center:geo:0,0
END:VEVENT
BEGIN:VTIMEZONE
TZID:America/New_York
X-LIC-LOCATION:America/New_York
BEGIN:DAYLIGHT
DTSTART:20250309T030000
TZOFFSETFROM:-0500
TZOFFSETTO:-0400
TZNAME:EDT
END:DAYLIGHT
END:VTIMEZONE
END:VCALENDAR