BEGIN:VCALENDAR
VERSION:2.0
PRODID:-//wp-events-plugin.com//7.2.3.1//EN
TZID:America/New_York
X-WR-TIMEZONE:America/New_York
BEGIN:VEVENT
UID:25@nvcwda.org
DTSTART;TZID=America/New_York:20231118T180000
DTEND;TZID=America/New_York:20231118T213000
DTSTAMP:20231116T233652Z
URL:https://www.nvcwda.org/events/country-dance-in-alexandria-november-18-
 2023/
SUMMARY:Country Dance in Alexandria. Lessons: "The Picnic Polka" and "Woode
 n Nickel"
DESCRIPTION:Saturday Nov 18th\, Country Line Dance and Couples Dance in Ale
 xandria.\nJoin us for a public social country line dance and couples dance
 \, open to all ages\, singles\, couples and families. Please see our FAQ a
 nd newcomer tips if you are a newcomer or beginner.\n\nIf you are beginner
 s with no experience at all of line or couple dancing\, we'll make sure to
  pay special attention to you during the lessons and open dancing so you c
 an have fun with us!\n\nPlease share on Facebook.\nDJ\nKevin Handy\nLine d
 ance lesson\nLaurie Armstrong will review Rocket to the Sun\,\nand teach T
 he Picnic Polka. stepsheet | video\nChoreography: David Paden\, 4 wall 48 
 counts.\n\nSong: The Picnic Polka by LeAnn Rimes.\nCouples dance lesson\nL
 inda &amp\; Rich will teach Wooden Nickel\n\nReviews of past lessons throu
 ghout the event.\nAdmission:\n\n 	$10 for members of NVCWDA.\n 	$15 for no
 nmembers.\n 	Children under 18\, with paying adult $5.\n 	Cash\, checks an
 d credit cards accepted.\n 	Prorated Membership: 1 year: $10 for singles a
 nd $18 for couples.\n
ATTACH;FMTTYPE=image/jpeg:https://www.nvcwda.org/wp-content/uploads/2023/0
 1/line-and-couple-dancers-yoast-1200x675-1.jpg
LOCATION:Lincolnia Senior Center\, 4710 North Chambliss St\, Alexandria\, V
 A\, 22312\, United States
X-APPLE-STRUCTURED-LOCATION;VALUE=URI;X-ADDRESS=4710 North Chambliss St\, A
 lexandria\, VA\, 22312\, United States;X-APPLE-RADIUS=100;X-TITLE=Lincolni
 a Senior Center:geo:0,0
END:VEVENT
BEGIN:VTIMEZONE
TZID:America/New_York
X-LIC-LOCATION:America/New_York
BEGIN:STANDARD
DTSTART:20231105T010000
TZOFFSETFROM:-0400
TZOFFSETTO:-0500
TZNAME:EST
END:STANDARD
END:VTIMEZONE
END:VCALENDAR