BEGIN:VCALENDAR
VERSION:2.0
PRODID:-//wp-events-plugin.com//7.2.3.1//EN
TZID:America/New_York
X-WR-TIMEZONE:America/New_York
BEGIN:VEVENT
UID:24@nvcwda.org
DTSTART;TZID=America/New_York:20231104T180000
DTEND;TZID=America/New_York:20231104T213000
DTSTAMP:20231101T154647Z
URL:https://www.nvcwda.org/events/country-dance-in-alexandria-november-4-2
 023/
SUMMARY:Country Dance in Alexandria. Lessons: "That Honky Tonk Highway" and
  East Coast Swing
DESCRIPTION:Saturday Nov 4th\, Country Line Dance and Couples Dance in Alex
 andria.\nJoin us for a public social country line dance and couples dance\
 , open to all ages\, singles\, couples and families. Please see our FAQ an
 d newcomer tips if you are a newcomer or beginner.\n\nBring your entire fa
 mily and your friends for an evening of fun and healthy exercise\, with gr
 eat country music (old and new songs)\, and social interactions with like-
 minded people! You'll make new friends!\n\nIf you are beginners with no ex
 perience at all of line or couple dancing\, we'll make sure to pay special
  attention to you during the lessons and open dancing so you can have fun 
 with us!\n\nPlease share on Facebook.\nDJ\nBernie &amp\; Lydia Vitale\nLin
 e dance lesson\nMarie-Luce will teach "That Honky Tonk Highway". Stepsheet
  | Video\n\n4 walls\, 32 counts\, absolute beginner level\n\nChoreography:
  Maggie Shipley\n\nSong: “Honky Tonk Highway” by Luke Combs\nCouples d
 ance lesson\nGary will teach East Coast Swing\n\nReviews\n\nof past lesson
 s throughout the event.\nAdmission:\n\n 	$10 for members of NVCWDA.\n 	$15
  for nonmembers.\n 	Children under 18\, with paying adult $5.\n 	Cash\, ch
 ecks and credit cards accepted.\n 	Prorated Membership: 1 year: $15 for si
 ngles and $25 for couples.\n
ATTACH;FMTTYPE=image/jpeg:https://www.nvcwda.org/wp-content/uploads/2023/0
 1/linedancers-slider-2-1080x474-1.jpg
LOCATION:Lincolnia Senior Center\, 4710 North Chambliss St\, Alexandria\, V
 A\, 22312\, United States
X-APPLE-STRUCTURED-LOCATION;VALUE=URI;X-ADDRESS=4710 North Chambliss St\, A
 lexandria\, VA\, 22312\, United States;X-APPLE-RADIUS=100;X-TITLE=Lincolni
 a Senior Center:geo:0,0
END:VEVENT
BEGIN:VTIMEZONE
TZID:America/New_York
X-LIC-LOCATION:America/New_York
BEGIN:DAYLIGHT
DTSTART:20230312T030000
TZOFFSETFROM:-0500
TZOFFSETTO:-0400
TZNAME:EDT
END:DAYLIGHT
END:VTIMEZONE
END:VCALENDAR