BEGIN:VCALENDAR
VERSION:2.0
PRODID:-//wp-events-plugin.com//7.2.3.1//EN
TZID:America/New_York
X-WR-TIMEZONE:America/New_York
BEGIN:VEVENT
UID:73@nvcwda.org
DTSTART;TZID=America/New_York:20251018T180000
DTEND;TZID=America/New_York:20251018T213000
DTSTAMP:20251003T112546Z
URL:https://www.nvcwda.org/events/country-dance-in-alexandria-october-18-2
 025/
SUMMARY:Country Dance in Alexandria.  Lessons:  Float (LD) and 16 Step (CD)
DESCRIPTION:\nSaturday October 18\, 2025\, Country Line Dance and Couples D
 ance in Alexandria.\nJoin us for a public social country line dance and co
 uples dance\, open to all ages\, singles\, couples and families. Please se
 e our FAQ and newcomer tips if you are a newcomer or beginner.\n\nIf you a
 re beginners with no experience at all of line or couple dancing\, we'll m
 ake sure to pay special attention to you during the lessons and open danci
 ng so you can have fun with us!\n\nPlease share on Facebook.\nDJ\nKevin Ha
 ndy\nLine dance lesson:\nSteve will teach "Float".  | Stepsheet and Vid
 eos |\nCouples dance lesson:\nSteve and Beth will teach "16 Step".  | St
 epsheet and Videos |\nAdmission:\n\n 	$10 for members of NVCWDA.\n 	$15 fo
 r nonmembers.\n 	Children under 18\, with paying adult $5.\n 	Cash and che
 cks.\n 	Annual Membership (expires May 2026): $15 for singles and $28 for 
 couples (prorated quarterly). Free admission for 1st time members after jo
 ining.\n
ATTACH;FMTTYPE=image/jpeg:https://www.nvcwda.org/wp-content/uploads/2023/0
 1/young-women-1080x691-1.jpg
LOCATION:Lincolnia Senior Center\, 4710 North Chambliss St\, Alexandria\, V
 A\, 22312\, United States
X-APPLE-STRUCTURED-LOCATION;VALUE=URI;X-ADDRESS=4710 North Chambliss St\, A
 lexandria\, VA\, 22312\, United States;X-APPLE-RADIUS=100;X-TITLE=Lincolni
 a Senior Center:geo:0,0
END:VEVENT
BEGIN:VTIMEZONE
TZID:America/New_York
X-LIC-LOCATION:America/New_York
BEGIN:DAYLIGHT
DTSTART:20250309T030000
TZOFFSETFROM:-0500
TZOFFSETTO:-0400
TZNAME:EDT
END:DAYLIGHT
END:VTIMEZONE
END:VCALENDAR