BEGIN:VCALENDAR
VERSION:2.0
PRODID:-//wp-events-plugin.com//7.2.3.1//EN
TZID:America/New_York
X-WR-TIMEZONE:America/New_York
BEGIN:VEVENT
UID:23@nvcwda.org
DTSTART;TZID=America/New_York:20231021T180000
DTEND;TZID=America/New_York:20231021T213000
DTSTAMP:20231031T162103Z
URL:https://www.nvcwda.org/events/country-dance-in-alexandria-october-21-2
 023/
SUMMARY:Country Dance in Alexandria. Lessons: "Give Me Your Tempo" and "Sha
 dow"
DESCRIPTION:Saturday October 21\, Country Line Dance and Couples Dance in A
 lexandria.\nJoin us for a public social country line dance and couples dan
 ce\, open to all ages\, singles\, couples and families. Please see our FAQ
  and newcomer tips if you are a newcomer or beginner.\n\nIf you are beginn
 ers with no experience at all of line or couple dancing\, we'll make sure 
 to pay special attention to you during the lessons and open dancing so you
  can have fun with us!\n\nPlease share on Facebook.\nDJ\nEd Cottrell\nLine
  dance lesson\nBernie will teach "Give me your tempo". Stepsheet | Video\n
 \n2 walls\, 32 counts\, improver level\n\nChoreography: Nathan Gardiner\n\
 nSong: Tempo by Matteo Bocelli\nCouples dance lesson\nKaren and Marty will
  teach Shadow. Stepsheet | Video\n\nChoreography: Nancy Martin\n\nSong: Ta
 ke It Back By Reba McEntire\n\nReviews of past lessons throughout the even
 t.\nAdmission:\n\n 	$10 for members of NVCWDA.\n 	$15 for nonmembers.\n 	C
 hildren under 18\, with paying adult $5.\n 	Cash\, checks and credit cards
  accepted.\n 	Prorated Membership: 1 year: $15 for singles and $30 for cou
 ples.\n
ATTACH;FMTTYPE=image/jpeg:https://www.nvcwda.org/wp-content/uploads/2023/0
 1/linedancers-slider-2-1080x474-1.jpg
LOCATION:Lincolnia Senior Center\, 4710 North Chambliss St\, Alexandria\, V
 A\, 22312\, United States
X-APPLE-STRUCTURED-LOCATION;VALUE=URI;X-ADDRESS=4710 North Chambliss St\, A
 lexandria\, VA\, 22312\, United States;X-APPLE-RADIUS=100;X-TITLE=Lincolni
 a Senior Center:geo:0,0
END:VEVENT
BEGIN:VTIMEZONE
TZID:America/New_York
X-LIC-LOCATION:America/New_York
BEGIN:DAYLIGHT
DTSTART:20230312T030000
TZOFFSETFROM:-0500
TZOFFSETTO:-0400
TZNAME:EDT
END:DAYLIGHT
END:VTIMEZONE
END:VCALENDAR