BEGIN:VCALENDAR
VERSION:2.0
PRODID:-//wp-events-plugin.com//7.2.3.1//EN
TZID:America/New_York
X-WR-TIMEZONE:America/New_York
BEGIN:VEVENT
UID:22@nvcwda.org
DTSTART;TZID=America/New_York:20231007T180000
DTEND;TZID=America/New_York:20231007T213000
DTSTAMP:20231004T154737Z
URL:https://www.nvcwda.org/events/country-dance-in-alexandria-october-7-20
 23/
SUMMARY:Country Dance in Alexandria. Lessons: "Hillbilly Hippie" and "Sway"
DESCRIPTION:Saturday October 7\, Country Line Dance and Couples Dance in Al
 exandria.\nJoin us for a public social country line dance and couples danc
 e\, open to all ages\, singles\, couples and families. Please see our FAQ 
 and newcomer tips if you are a newcomer or beginner.\n\nIf you are beginne
 rs with no experience at all of line or couple dancing\, we'll make sure t
 o pay special attention to you during the lessons and open dancing so you 
 can have fun with us!\n\nPlease share on Facebook.\nDJ\nKevin Handy\nLine 
 dance lesson\nLaurie Armstrong will teach Hillbilly Hippie. Stepsheet | Vi
 deo\n\n4 walls\, 32 counts\, improver level.\n\nChoreography: Ed Evangelis
 ta.\n\nSong: Hillbilly Hippy by Lainey Wilson.\nCouples dance lesson\nKare
 n and Marty will teach Sway. Stepsheet | Video\n\n&nbsp\;\n\nReviews of pa
 st lessons throughout the event.\nAdmission:\n\n 	$10 for members of NVCWD
 A.\n 	$15 for nonmembers.\n 	Children under 18\, with paying adult $5.\n 	
 Cash\, checks and credit cards accepted.\n 	Prorated Membership: 1 year: $
 15 for singles and $30 for couples.\n
ATTACH;FMTTYPE=image/jpeg:https://www.nvcwda.org/wp-content/uploads/2023/0
 1/young-women-1080x691-1.jpg
LOCATION:Lincolnia Senior Center\, 4710 North Chambliss St\, Alexandria\, V
 A\, 22312\, United States
X-APPLE-STRUCTURED-LOCATION;VALUE=URI;X-ADDRESS=4710 North Chambliss St\, A
 lexandria\, VA\, 22312\, United States;X-APPLE-RADIUS=100;X-TITLE=Lincolni
 a Senior Center:geo:0,0
END:VEVENT
BEGIN:VTIMEZONE
TZID:America/New_York
X-LIC-LOCATION:America/New_York
BEGIN:DAYLIGHT
DTSTART:20230312T030000
TZOFFSETFROM:-0500
TZOFFSETTO:-0400
TZNAME:EDT
END:DAYLIGHT
END:VTIMEZONE
END:VCALENDAR