BEGIN:VCALENDAR
VERSION:2.0
PRODID:-//wp-events-plugin.com//7.2.3.1//EN
TZID:America/New_York
X-WR-TIMEZONE:America/New_York
BEGIN:VEVENT
UID:20@nvcwda.org
DTSTART;TZID=America/New_York:20230916T180000
DTEND;TZID=America/New_York:20230916T213000
DTSTAMP:20231031T161941Z
URL:https://www.nvcwda.org/events/country-dance-in-alexandria-september-16
 -2023/
SUMMARY:Country Dance in Alexandria - Lessons "Memory Lane" and "Blue Rose"
DESCRIPTION:Saturday September 16\, Country Line Dance and Couples Dance in
  Alexandria.\nJoin us for a public social country line dance and couples d
 ance\, open to all ages\, singles\, couples and families. Please see our F
 AQ and newcomer tips if you are a newcomer or beginner.\n\nIf you are begi
 nners with no experience at all of line or couple dancing\, we'll make sur
 e to pay special attention to you during the lessons and open dancing so y
 ou can have fun with us!\n\nPlease share on Facebook.\nDJ\nMinime\nLine da
 nce lesson\nMarie-Luce will teach "Memory Lane". Stepsheet | Video\nCouple
 s dance lesson\nLinda &amp\; Rich will teach Blue Rose. Stepsheet | Video\
 n\nReviews of past lessons throughout the event.\nAdmission:\n\n 	$10 for 
 members of NVCWDA.\n 	$15 for nonmembers.\n 	Children under 18\, with payi
 ng adult $5.\n 	Cash\, checks and credit cards accepted.\n 	Prorated Membe
 rship: 1 year: $15 for singles and $30 for couples.\n
ATTACH;FMTTYPE=image/jpeg:https://www.nvcwda.org/wp-content/uploads/2023/0
 1/young-women-1080x691-1.jpg
LOCATION:Lincolnia Senior Center\, 4710 North Chambliss St\, Alexandria\, V
 A\, 22312\, United States
X-APPLE-STRUCTURED-LOCATION;VALUE=URI;X-ADDRESS=4710 North Chambliss St\, A
 lexandria\, VA\, 22312\, United States;X-APPLE-RADIUS=100;X-TITLE=Lincolni
 a Senior Center:geo:0,0
END:VEVENT
BEGIN:VTIMEZONE
TZID:America/New_York
X-LIC-LOCATION:America/New_York
BEGIN:DAYLIGHT
DTSTART:20230312T030000
TZOFFSETFROM:-0500
TZOFFSETTO:-0400
TZNAME:EDT
END:DAYLIGHT
END:VTIMEZONE
END:VCALENDAR