BEGIN:VCALENDAR
VERSION:2.0
PRODID:-//wp-events-plugin.com//7.2.3.1//EN
TZID:America/New_York
X-WR-TIMEZONE:America/New_York
BEGIN:VEVENT
UID:87@nvcwda.org
DTSTART;TZID=America/New_York:20260404T180000
DTEND;TZID=America/New_York:20260404T213000
DTSTAMP:20260403T134654Z
URL:https://www.nvcwda.org/events/country-dance-in-fairfax-city-march-04-2
 026/
SUMMARY:Country Dance at Green Acres in Fairfax City.  Lessons:  The Door (
 LD)\; Charleston Bump (CD)
DESCRIPTION: \nSaturday April 4\, 2026\, Country Line Dance and Couples Da
 nce in Fairfax City.  Lessons:  The Door (LD)\; Charleston Bump (CD)\nJo
 in us for a public social country line dance (LD) and couples dance (CD)\,
  open to all ages\, singles\, couples and families. Please see our FAQ and
  newcomer tips if you are a newcomer or beginner. If you are beginners wit
 h no experience at all of line or couple dancing\, we'll make sure to pay 
 special attention to you during the lessons and open dancing so you can ha
 ve fun with us!\n\nDJ\nEd Cottrell\nLine dance lesson:\nBernard will teach
  "The Door" | Stepsheet | Video | Choreographer's Video |\nCouples dance l
 esson:|\nLinda will teach "Charleston Bump" | Stepsheet | Video |\nAdmiss
 ion:\n\n$10 for members of NVCWDA.\n$15 for non-members.\nChildren under 1
 8\, with paying adult $5.\nCash and checks.\nAnnual Membership (expires M
 ay 31st 2027): $20 for singles and $35 for couples. Admission is free for 
 the 1st dance after joining.\n\nPlease share on Facebook.
ATTACH;FMTTYPE=image/jpeg:https://www.nvcwda.org/wp-content/uploads/2023/0
 1/boots3-710x400-1.jpg
LOCATION:Green Acres Center\, 4401 Sideburn Rd\, Fairfax\, VA\, 22030\, Uni
 ted States
X-APPLE-STRUCTURED-LOCATION;VALUE=URI;X-ADDRESS=4401 Sideburn Rd\, Fairfax\
 , VA\, 22030\, United States;X-APPLE-RADIUS=100;X-TITLE=Green Acres Center
 :geo:0,0
END:VEVENT
BEGIN:VTIMEZONE
TZID:America/New_York
X-LIC-LOCATION:America/New_York
BEGIN:DAYLIGHT
DTSTART:20260308T030000
TZOFFSETFROM:-0500
TZOFFSETTO:-0400
TZNAME:EDT
END:DAYLIGHT
END:VTIMEZONE
END:VCALENDAR