BEGIN:VCALENDAR
VERSION:2.0
PRODID:-//wp-events-plugin.com//7.2.3.1//EN
TZID:America/New_York
X-WR-TIMEZONE:America/New_York
BEGIN:VEVENT
UID:80@nvcwda.org
DTSTART;TZID=America/New_York:20260117T180000
DTEND;TZID=America/New_York:20260117T213000
DTSTAMP:20260128T205715Z
URL:https://www.nvcwda.org/events/country-dance-in-sterling-january-17-202
 6/
SUMMARY:Country Dance in Sterling.  Lessons:  You Had to Be There (LD)\; 
 El Paso (CD)
DESCRIPTION:\nSaturday January 17\, 2026\, Country Line Dance and Couples D
 ance in Sterling.  Lessons:  You Had to Be There (LD)\; El Paso (CD)\n&n
 bsp\;\n\nJoin us for a public social country line dance and couples dance\
 , open to all ages\, singles\, couples and families. Please see our FAQ an
 d newcomer tips if you are a newcomer or beginner.\n\nIf you are beginners
  with no experience at all of line or couple dancing\, we'll make sure to 
 pay special attention to you during the lessons and open dancing so you ca
 n have fun with us!\n\nPlease share on Facebook.\nDJ\nKat Fanelli\nLine da
 nce lesson:\nBernie will teach "You Had to Be There" | Stepsheet | Video (
 teach) | Video (demo) |\nCouples dance lesson:\nLinda will teach "El Paso"
  | Stepsheet | Video (teach) | Video (dance) |\nAdmission:\n\n 	$10 for me
 mbers of NVCWDA.\n 	$15 for non-members.\n 	Children under 18\, with payin
 g adult $5.\n 	Cash and checks.\n 	Annual Membership (expires May 2026): $
 10 for singles and $25 for couples (prorated quarterly). Free admission fo
 r 1st time members after joining.\n
ATTACH;FMTTYPE=image/jpeg:https://www.nvcwda.org/wp-content/uploads/2023/0
 1/linedancers-slider-2-1080x474-1.jpg
LOCATION:Galilee UMC\, 45425 Winding Rd\, Sterling\, VA\, 20165\, United St
 ates
X-APPLE-STRUCTURED-LOCATION;VALUE=URI;X-ADDRESS=45425 Winding Rd\, Sterling
 \, VA\, 20165\, United States;X-APPLE-RADIUS=100;X-TITLE=Galilee UMC:geo:0
 ,0
END:VEVENT
BEGIN:VTIMEZONE
TZID:America/New_York
X-LIC-LOCATION:America/New_York
BEGIN:STANDARD
DTSTART:20251102T010000
TZOFFSETFROM:-0400
TZOFFSETTO:-0500
TZNAME:EST
END:STANDARD
END:VTIMEZONE
END:VCALENDAR