BEGIN:VCALENDAR
VERSION:2.0
PRODID:-//wp-events-plugin.com//7.2.3.1//EN
TZID:America/New_York
X-WR-TIMEZONE:America/New_York
BEGIN:VEVENT
UID:68@nvcwda.org
DTSTART;TZID=America/New_York:20250705T180000
DTEND;TZID=America/New_York:20250705T213000
DTSTAMP:20250818T194104Z
URL:https://www.nvcwda.org/events/country-dance-in-sterling-lessons-all-in
 -my-head-and-cha-cha-moves-2/
SUMMARY:Country Dance in Sterling. Lessons: All In My Head and Cha Cha move
 s
DESCRIPTION:\nSaturday  September 6\, 2025\, Country Line Dance and Couple
 s Dance in Sterling.\nJoin us for a public social country line dance and c
 ouples dance\, open to all ages\,\n\nsingles\, couples and families. Pleas
 e see our FAQ and newcomer tips if you are a newcomer or beginner.\n\nIf y
 ou are beginners with no experience at all of line or couple dancing\, we'
 ll make sure to pay special attention to you during the lessons and open d
 ancing so you can have fun with us!\n\nPlease share on Facebook.\nDJ\nEd C
 ottrell\nLine dance lessons:\nBernie will teach "Don't Break My Soul".  |
  Stepsheet | Video |\nCouples dance lesson:\nEd and Gail will teach "Nigh
 tclub".  | Video | Video |\n\nReviews of past lessons throughout the eve
 nt.\nAdmission:\n\n 	$10 for members of NVCWDA.\n 	$15 for nonmembers.\n 	
 Children under 18\, with paying adult $5.\n 	Cash and checks.\n 	Annual Me
 mbership (expires May 2025): $10 for singles and $18 for couples. Free adm
 ission for 1st time members.\n
ATTACH;FMTTYPE=image/jpeg:https://www.nvcwda.org/wp-content/uploads/2023/0
 1/boots5-710x425-1.jpg
LOCATION:Galilee UMC\, 45425 Winding Rd\, Sterling\, VA\, 20165\, United St
 ates
X-APPLE-STRUCTURED-LOCATION;VALUE=URI;X-ADDRESS=45425 Winding Rd\, Sterling
 \, VA\, 20165\, United States;X-APPLE-RADIUS=100;X-TITLE=Galilee UMC:geo:0
 ,0
END:VEVENT
BEGIN:VTIMEZONE
TZID:America/New_York
X-LIC-LOCATION:America/New_York
BEGIN:DAYLIGHT
DTSTART:20250309T030000
TZOFFSETFROM:-0500
TZOFFSETTO:-0400
TZNAME:EDT
END:DAYLIGHT
END:VTIMEZONE
END:VCALENDAR