BEGIN:VCALENDAR
VERSION:2.0
PRODID:-//wp-events-plugin.com//7.2.3.1//EN
TZID:America/New_York
X-WR-TIMEZONE:America/New_York
BEGIN:VEVENT
UID:64@nvcwda.org
DTSTART;TZID=America/New_York:20250705T180000
DTEND;TZID=America/New_York:20250705T213000
DTSTAMP:20250718T212748Z
URL:https://www.nvcwda.org/events/country-dance-in-sterling-lessons-dont-b
 reak-my-soul-and-nightclub/
SUMMARY:Country Dance in Sterling. Lessons: Don't Break My Soul and Nightcl
 ub
DESCRIPTION:\nSaturday July 5\, 2025\, Country Line Dance and Couples Dance
  in Sterling.\nJoin us for a public social country line dance and couples 
 dance\, open to all ages\,\n\nsingles\, couples and families. Please see o
 ur FAQ and newcomer tips if you are a newcomer or beginner.\n\nIf you are 
 beginners with no experience at all of line or couple dancing\, we'll make
  sure to pay special attention to you during the lessons and open dancing 
 so you can have fun with us!\n\nPlease share on Facebook.\nDJ\nEd Cottrell
 \nLine dance lessons:\nBernie will teach "Don't Break My Soul".  | Steps
 heet | Video |\nCouples dance lesson:\nEd and Gail will teach "Nightclub".
   | Video | Video |\n\nReviews of past lessons throughout the event.\nAd
 mission:\n\n 	$10 for members of NVCWDA.\n 	$15 for nonmembers.\n 	Childre
 n under 18\, with paying adult $5.\n 	Cash and checks.\n 	Annual Membershi
 p (expires May 2025): $10 for singles and $18 for couples. Free admission 
 for 1st time members.\n
ATTACH;FMTTYPE=image/jpeg:https://www.nvcwda.org/wp-content/uploads/2023/0
 1/linedancers-slider-2-1080x474-1.jpg
LOCATION:Galilee UMC\, 45425 Winding Rd\, Sterling\, VA\, 20165\, United St
 ates
X-APPLE-STRUCTURED-LOCATION;VALUE=URI;X-ADDRESS=45425 Winding Rd\, Sterling
 \, VA\, 20165\, United States;X-APPLE-RADIUS=100;X-TITLE=Galilee UMC:geo:0
 ,0
END:VEVENT
BEGIN:VTIMEZONE
TZID:America/New_York
X-LIC-LOCATION:America/New_York
BEGIN:DAYLIGHT
DTSTART:20250309T030000
TZOFFSETFROM:-0500
TZOFFSETTO:-0400
TZNAME:EDT
END:DAYLIGHT
END:VTIMEZONE
END:VCALENDAR