BEGIN:VCALENDAR
VERSION:2.0
PRODID:-//wp-events-plugin.com//7.2.3.1//EN
TZID:America/New_York
X-WR-TIMEZONE:America/New_York
BEGIN:VEVENT
UID:70@nvcwda.org
DTSTART;TZID=America/New_York:20250906T180000
DTEND;TZID=America/New_York:20250906T213000
DTSTAMP:20250904T205120Z
URL:https://www.nvcwda.org/events/country-dance-in-sterling-september-06-2
 025/
SUMMARY:Country Dance in Sterling. Lessons:  Getting' Gone and Cha Cha move
 s
DESCRIPTION:\nSaturday  September 6\, 2025\, Country Line Dance and Couple
 s Dance in Sterling.\nJoin us for a public social country line dance and c
 ouples dance\, open to all ages\, singles\, couples and families. Please s
 ee our FAQ and newcomer tips if you are a newcomer or beginner.\n\nIf you 
 are beginners with no experience at all of line or couple dancing\, we'll 
 make sure to pay special attention to you during the lessons and open danc
 ing so you can have fun with us!\n\nPlease share on Facebook.\nDJ\nEd Cott
 rell\nLine dance lessons:\nBernie will teach "Getting' Gone".  | Stepshe
 et &amp\; Videos |\nCouples dance lesson:\nEd and Gail will teach Cha Cha 
 moves.\n\nReviews of past lessons throughout the event.\nAdmission:\n\n 	$
 10 for members of NVCWDA.\n 	$15 for nonmembers.\n 	Children under 18\, wi
 th paying adult $5.\n 	Cash and checks.\n 	Annual Membership (expires May 
 2026): $15 for singles and $28 for couples (prorated quarterly). Free admi
 ssion for 1st time members.\n
ATTACH;FMTTYPE=image/jpeg:https://www.nvcwda.org/wp-content/uploads/2023/0
 1/boots5-710x425-1.jpg
LOCATION:Galilee UMC\, 45425 Winding Rd\, Sterling\, VA\, 20165\, United St
 ates
X-APPLE-STRUCTURED-LOCATION;VALUE=URI;X-ADDRESS=45425 Winding Rd\, Sterling
 \, VA\, 20165\, United States;X-APPLE-RADIUS=100;X-TITLE=Galilee UMC:geo:0
 ,0
END:VEVENT
BEGIN:VTIMEZONE
TZID:America/New_York
X-LIC-LOCATION:America/New_York
BEGIN:DAYLIGHT
DTSTART:20250309T030000
TZOFFSETFROM:-0500
TZOFFSETTO:-0400
TZNAME:EDT
END:DAYLIGHT
END:VTIMEZONE
END:VCALENDAR