BEGIN:VCALENDAR
VERSION:2.0
PRODID:-//wp-events-plugin.com//7.2.3.1//EN
TZID:America/New_York
X-WR-TIMEZONE:America/New_York
BEGIN:VEVENT
UID:2@nvcwda.org
DTSTART;TZID=America/New_York:20230107T180000
DTEND;TZID=America/New_York:20230107T213000
DTSTAMP:20230108T200649Z
URL:https://www.nvcwda.org/events/dance-in-alexandria-jan-7-2023/
SUMMARY:Dance in Alexandria with DJ Minime
DESCRIPTION:DJ\nMiniMe\nLessons\nLine dance lesson: Bernard will teach Good
  Time\n.\n\n\nCouple dance lesson: Linda will teach Wooden Nickel\n.\n\nRe
 views of past lessons throughout the event.
LOCATION:Lincolnia Senior Center\, 4710 North Chambliss St\, Alexandria\, V
 A\, 22312\, United States
X-APPLE-STRUCTURED-LOCATION;VALUE=URI;X-ADDRESS=4710 North Chambliss St\, A
 lexandria\, VA\, 22312\, United States;X-APPLE-RADIUS=100;X-TITLE=Lincolni
 a Senior Center:geo:0,0
END:VEVENT
BEGIN:VTIMEZONE
TZID:America/New_York
X-LIC-LOCATION:America/New_York
BEGIN:STANDARD
DTSTART:20221106T010000
TZOFFSETFROM:-0400
TZOFFSETTO:-0500
TZNAME:EST
END:STANDARD
END:VTIMEZONE
END:VCALENDAR