BEGIN:VCALENDAR
VERSION:2.0
PRODID:-//wp-events-plugin.com//7.2.3.1//EN
TZID:America/New_York
X-WR-TIMEZONE:America/New_York
BEGIN:VEVENT
UID:7@nvcwda.org
DTSTART;TZID=America/New_York:20230401T180000
DTEND;TZID=America/New_York:20230401T213000
DTSTAMP:20230322T182018Z
URL:https://www.nvcwda.org/events/line-couples-dance-alexandria-april-1-20
 23/
SUMMARY:Dance in Alexandria - Learn When Will I Be Loved & East Coast Swing
DESCRIPTION:\n\nSaturday April 1st\, Line Dance and Couples Dance.\nJoin us
  for a public social line dance and couples dance\, open to all ages\, sin
 gles\, couples and families. Please see our FAQ and newcomer tips if you a
 re a newcomer or beginner.\n\nIf you are beginners with no experience at a
 ll of line or couple dancing\, we'll make sure to pay special attention to
  you during the lessons and open dancing so you can have fun with us!\n\nP
 lease share on Facebook.\n\n\n\nDJ\nEd Cottrell\n\n\n\n\nLine dance lesson
 \nBernard will teach When Will I Be Loved. Stepsheet - Video\n\nCouples da
 nce lesson\nLinda will teach the basic of East Coast Swing for couples\nRe
 views of past lessons throughout the event.\n\n\n\nAdmission:\n\n 	$10 for
  members of NVCWDA.\n 	$15 for nonmembers.\n 	Children under 18\, with pay
 ing adult $5.\n 	Cash\, checks and credit cards accepted.\n 	Membership: $
 10 (Expires 5/31/2023).\n
ATTACH;FMTTYPE=image/jpeg:https://www.nvcwda.org/wp-content/uploads/2023/0
 1/line-and-couple-dancers-yoast-1200x675-1.jpg
LOCATION:Lincolnia Senior Center\, 4710 North Chambliss St\, Alexandria\, V
 A\, 22312\, United States
X-APPLE-STRUCTURED-LOCATION;VALUE=URI;X-ADDRESS=4710 North Chambliss St\, A
 lexandria\, VA\, 22312\, United States;X-APPLE-RADIUS=100;X-TITLE=Lincolni
 a Senior Center:geo:0,0
END:VEVENT
BEGIN:VTIMEZONE
TZID:America/New_York
X-LIC-LOCATION:America/New_York
BEGIN:DAYLIGHT
DTSTART:20230312T030000
TZOFFSETFROM:-0500
TZOFFSETTO:-0400
TZNAME:EDT
END:DAYLIGHT
END:VTIMEZONE
END:VCALENDAR