BEGIN:VCALENDAR
VERSION:2.0
PRODID:-//wp-events-plugin.com//7.2.3.1//EN
TZID:America/New_York
X-WR-TIMEZONE:America/New_York
BEGIN:VEVENT
UID:11@nvcwda.org
DTSTART;TZID=America/New_York:20230603T180000
DTEND;TZID=America/New_York:20230603T213000
DTSTAMP:20230602T175318Z
URL:https://www.nvcwda.org/events/line-couples-dance-alexandria-june-3-202
 3/
SUMMARY:Country Dance in Alexandria- Learn "Heaven's Jukebox" and "El Paso 
 Stroll"
DESCRIPTION:\n\nSaturday June 3\, Country Line Dance and Couples Dance.\nJo
 in us for a public social country line dance and couples dance\, open to a
 ll ages\, singles\, couples and families. Please see our FAQ and newcomer 
 tips if you are a newcomer or beginner.\n\nIf you are beginners with no ex
 perience at all of line or couple dancing\, we'll make sure to pay special
  attention to you during the lessons and open dancing so you can have fun 
 with us!\n\nPlease share on Facebook.\n\n\n\nDJ\nKevin Handy\n\n\n\nLine d
 ance lesson\nBernard will teach "Heaven's Jukebox".  stepsheet | video\nC
 ouples dance lesson\nBernie and Lydia will teach "El Paso Stroll".  steps
 heet | video\n\nReviews of past lessons throughout the event.\n\n\n\nAdmis
 sion:\n\n 	$10 for members of NVCWDA.\n 	$15 for nonmembers.\n 	Children u
 nder 18\, with paying adult $5.\n 	Cash\, checks and credit cards accepted
 .\n 	Membership: 1 year: $20\n
ATTACH;FMTTYPE=image/jpeg:https://www.nvcwda.org/wp-content/uploads/2023/0
 1/linedancers-slider-2-1080x474-1.jpg
LOCATION:Lincolnia Senior Center\, 4710 North Chambliss St\, Alexandria\, V
 A\, 22312\, United States
X-APPLE-STRUCTURED-LOCATION;VALUE=URI;X-ADDRESS=4710 North Chambliss St\, A
 lexandria\, VA\, 22312\, United States;X-APPLE-RADIUS=100;X-TITLE=Lincolni
 a Senior Center:geo:0,0
END:VEVENT
BEGIN:VTIMEZONE
TZID:America/New_York
X-LIC-LOCATION:America/New_York
BEGIN:DAYLIGHT
DTSTART:20230312T030000
TZOFFSETFROM:-0500
TZOFFSETTO:-0400
TZNAME:EDT
END:DAYLIGHT
END:VTIMEZONE
END:VCALENDAR