BEGIN:VCALENDAR
VERSION:2.0
PRODID:-//wp-events-plugin.com//7.2.3.1//EN
TZID:America/New_York
X-WR-TIMEZONE:America/New_York
BEGIN:VEVENT
UID:6@nvcwda.org
DTSTART;TZID=America/New_York:20230318T180000
DTEND;TZID=America/New_York:20230318T213000
DTSTAMP:20230302T173651Z
URL:https://www.nvcwda.org/events/line-couples-dance-alexandria-march-18-2
 023/
SUMMARY:Dance in Alexandria - Learn Champagne Promise and the Waltz
DESCRIPTION:\n\nSaturday March 18th\, Line Dance and Couples Dance.\nJoin u
 s for a public social line dance and couples dance\, open to all ages\, si
 ngles\, couples and families. Please see our FAQ and newcomer tips if you 
 are a newcomer or beginner.\n\nIf you are beginners with no experience at 
 all of line or couple dancing\, we'll make sure to pay special attention t
 o you during the lessons and open dancing so you can have fun with us!\n\n
 Please share on Facebook.\n\n\n\nDJ\nBernie & Lydia Vitale\n\n\n\n\nLine d
 ance lesson\nBernie will teach Champagne Promise. Stepsheet - Video\n\nCou
 ples dance lesson\nLinda will teach the basic of Waltz for couples\nReview
 s of past lessons throughout the event.\n\n\n\nAdmission:\n\n 	$10 for mem
 bers of NVCWDA.\n 	$15 for nonmembers.\n 	Children under 18\, with paying 
 adult $5.\n 	Cash\, checks and credit cards accepted.\n 	Membership: $10 (
 Expires 5/31/2023).\n
ATTACH;FMTTYPE=image/jpeg:https://www.nvcwda.org/wp-content/uploads/2023/0
 2/couple-champagne.jpg
END:VEVENT
BEGIN:VTIMEZONE
TZID:America/New_York
X-LIC-LOCATION:America/New_York
BEGIN:DAYLIGHT
DTSTART:20230312T030000
TZOFFSETFROM:-0500
TZOFFSETTO:-0400
TZNAME:EDT
END:DAYLIGHT
END:VTIMEZONE
END:VCALENDAR