BEGIN:VCALENDAR
VERSION:2.0
PRODID:-//wp-events-plugin.com//7.2.3.1//EN
TZID:America/New_York
X-WR-TIMEZONE:America/New_York
BEGIN:VEVENT
UID:10@nvcwda.org
DTSTART;TZID=America/New_York:20230520T180000
DTEND;TZID=America/New_York:20230520T213000
DTSTAMP:20230502T201412Z
URL:https://www.nvcwda.org/events/line-couples-dance-alexandria-may-20-202
 3/
SUMMARY:Country Dance in Alexandria- Learn "Droppin' Tailgates" & Waltz
DESCRIPTION:\n\nSaturday May 20\, Country Line Dance and Couples Dance.\nJo
 in us for a public social country line dance and couples dance\, open to a
 ll ages\, singles\, couples and families. Please see our FAQ and newcomer 
 tips if you are a newcomer or beginner.\n\nIf you are beginners with no ex
 perience at all of line or couple dancing\, we'll make sure to pay special
  attention to you during the lessons and open dancing so you can have fun 
 with us!\n\nPlease share on Facebook.\n\n\n\nDJ\nBernie and Lydia\n\n\n\nL
 ine dance lesson\nBernie will teach "Droppin' Tailgates".  stepsheet | vi
 deo\nCouples dance lesson\nLinda will continue teaching the Waltz for coup
 les.\n\nReviews of past lessons throughout the event.\n\n\n\nAdmission:\n\
 n 	$10 for members of NVCWDA.\n 	$15 for nonmembers.\n 	Children under 18\
 , with paying adult $5.\n 	Cash\, checks and credit cards accepted.\n 	Mem
 bership: 1 year: $20\n
ATTACH;FMTTYPE=image/jpeg:https://www.nvcwda.org/wp-content/uploads/2023/0
 1/couples-slider-2-1080x474-1.jpg
LOCATION:Lincolnia Senior Center\, 4710 North Chambliss St\, Alexandria\, V
 A\, 22312\, United States
X-APPLE-STRUCTURED-LOCATION;VALUE=URI;X-ADDRESS=4710 North Chambliss St\, A
 lexandria\, VA\, 22312\, United States;X-APPLE-RADIUS=100;X-TITLE=Lincolni
 a Senior Center:geo:0,0
END:VEVENT
BEGIN:VTIMEZONE
TZID:America/New_York
X-LIC-LOCATION:America/New_York
BEGIN:DAYLIGHT
DTSTART:20230312T030000
TZOFFSETFROM:-0500
TZOFFSETTO:-0400
TZNAME:EDT
END:DAYLIGHT
END:VTIMEZONE
END:VCALENDAR