BEGIN:VCALENDAR
VERSION:2.0
PRODID:-//wp-events-plugin.com//7.2.3.1//EN
TZID:America/New_York
X-WR-TIMEZONE:America/New_York
BEGIN:VEVENT
UID:9@nvcwda.org
DTSTART;TZID=America/New_York:20230506T180000
DTEND;TZID=America/New_York:20230506T213000
DTSTAMP:20230502T193119Z
URL:https://www.nvcwda.org/events/line-couples-dance-alexandria-may-6-2023
 /
SUMMARY:Dance in Alexandria – Learn "Baby Come Back To Me" and 2-Step
DESCRIPTION:\n\nSaturday May 6\, Line Dance and Couples Dance.\nJoin us for
  a public social line dance and couples dance\, open to all ages\, singles
 \, couples and families. Please see our FAQ and newcomer tips if you are a
  newcomer or beginner.\n\nIf you are beginners with no experience at all o
 f line or couple dancing\, we'll make sure to pay special attention to you
  during the lessons and open dancing so you can have fun with us!\n\nPleas
 e share on Facebook.\n\n\n\nDJ\nDJ MiniMe (Nadeem)\n\n\n\nLine dance lesso
 n\nSteve will teach Baby Come Back to Me. stepsheet | video\nCouples dance
  lesson\nLinda will teach beginner 2-Step for couples\n\nReviews of past l
 essons throughout the event.\n\n\n\nAdmission:\n\n 	$10 for members of NVC
 WDA.\n 	$15 for nonmembers.\n 	Children under 18\, with paying adult $5.\n
  	Cash\, checks and credit cards accepted.\n 	Membership: 1 year: $20.\n
ATTACH;FMTTYPE=image/jpeg:https://www.nvcwda.org/wp-content/uploads/2023/0
 1/young-women-1080x691-1.jpg
LOCATION:Lincolnia Senior Center\, 4710 North Chambliss St\, Alexandria\, V
 A\, 22312\, United States
X-APPLE-STRUCTURED-LOCATION;VALUE=URI;X-ADDRESS=4710 North Chambliss St\, A
 lexandria\, VA\, 22312\, United States;X-APPLE-RADIUS=100;X-TITLE=Lincolni
 a Senior Center:geo:0,0
END:VEVENT
BEGIN:VTIMEZONE
TZID:America/New_York
X-LIC-LOCATION:America/New_York
BEGIN:DAYLIGHT
DTSTART:20230312T030000
TZOFFSETFROM:-0500
TZOFFSETTO:-0400
TZNAME:EDT
END:DAYLIGHT
END:VTIMEZONE
END:VCALENDAR