BEGIN:VCALENDAR
VERSION:2.0
PRODID:-//wp-events-plugin.com//7.2.3.1//EN
TZID:America/New_York
X-WR-TIMEZONE:America/New_York
BEGIN:VEVENT
UID:4@nvcwda.org
DTSTART;TZID=America/New_York:20260307T180000
DTEND;TZID=America/New_York:20260307T213000
DTSTAMP:20260306T141710Z
URL:https://www.nvcwda.org/events/line-couples-dance-in-burke-mar-07-2026/
SUMMARY:Country Dance in Burke.  Lessons:  Choosin' Texas (LD)\, Choosin' T
 exas (Couples Version)
DESCRIPTION:\n\nSaturday March 7\, 2026\, Line Dance and Couples Dance. Les
 sons: Choosin' Texas (LD)\; Choosn' Texas (Couples Version)\nJoin us for a
  public social line dance and couples dance\, open to all ages\, singles\,
  couples and families. Please see our FAQ and newcomer tips if you are a n
 ewcomer or beginner.\n\nIf you are beginners with no experience at all of 
 line or couple dancing\, we'll make sure to pay special attention to you d
 uring the lessons and open dancing so you can have fun with us!\n\nPlease 
 share on Facebook.\n\n\n\nDJ\nEd Cottrell\nLine dance lesson\nMarie-Luce w
 ill teach "Choosin' Texas" | Stepsheet |\nCouples dance lesson\nKaren wi
 ll teach the couples version of "Choosin' Texas" | Stepsheet | Video |\n\n
 Reviews of past lessons throughout the event.\n\n\n\nAdmission:\n\n 	$10 f
 or members of NVCWDA.\n 	$15 for non-members.\n 	Children under 18\, with 
 paying adult $5.\n 	Cash\, checks\, and credit cards accepted.\n 	Annual M
 embership (expires May 2026): $10 for singles and $15 for couples. Free ad
 mission for 1st time members after joining.\n
ATTACH;FMTTYPE=image/jpeg:https://www.nvcwda.org/wp-content/uploads/2023/0
 1/auuc.jpg
LOCATION:Accotink Unitarian Universalist Church\, 10125 Lakehaven Ct\, Burk
 e\, VA\, 22015\, United States
X-APPLE-STRUCTURED-LOCATION;VALUE=URI;X-ADDRESS=10125 Lakehaven Ct\, Burke\
 , VA\, 22015\, United States;X-APPLE-RADIUS=100;X-TITLE=Accotink Unitarian
  Universalist Church:geo:0,0
END:VEVENT
BEGIN:VTIMEZONE
TZID:America/New_York
X-LIC-LOCATION:America/New_York
BEGIN:STANDARD
DTSTART:20251102T010000
TZOFFSETFROM:-0400
TZOFFSETTO:-0500
TZNAME:EST
END:STANDARD
END:VTIMEZONE
END:VCALENDAR